BEGIN:VCALENDAR
VERSION:2.0
PRODID:icalendar-ruby
CALSCALE:GREGORIAN
METHOD:PUBLISH
BEGIN:VEVENT
DTSTAMP:20260423T055253Z
UID:5-403150@goodtreechurch.tithelysetup5.com
DTSTART:20261025T163000Z
DTEND:20261025T173000Z
CLASS:PUBLIC
CREATED:20260422T212119
DESCRIPTION:Come and worship\, Sunday mornings at 10:30 AM.\nJoin us early 
 for free and delicious coffee and toast at 9:30 AM.\nStay for light refres
 hments following the service.
LAST-MODIFIED:20260422T212119
LOCATION:
SUMMARY:Sunday Worship
URL;VALUE=URI:https://goodtree.ca/events/sunday-worship/2026-10-25
END:VEVENT
END:VCALENDAR
